BEGIN:VCALENDAR
VERSION:2.0
PRODID:icalendar-ruby
CALSCALE:GREGORIAN
METHOD:PUBLISH
BEGIN:VEVENT
DTSTAMP:20260424T102903Z
UID:2913-458013@kucparksville.ca
DTSTART:20260426T170000Z
DTEND:20260426T181500Z
CLASS:PUBLIC
CREATED:20260423T125016
DESCRIPTION:Welcome to Worship at Knox! We extend a very warm welcome to al
 l who are a part of our community of faith\, whether you are joining us in
  person or via live stream\, whether you are visiting or seeking a new chu
 rch home. May you receive what you need today and sense the presence of th
 e Spirit of God moving among us. Our thanks to all those who are participa
 ting in today’s service.
LAST-MODIFIED:20260423T125016
LOCATION:Sanctuary and Livestream
SUMMARY:Understanding Our Interdependency (S\,LS)
URL;VALUE=URI:https://www.kucparksville.ca/events/understanding-our-interde
 pendency-s-ls/2026-04-26
ATTACH;FILENAME=sermon pic April 26 2026.png;FMTTYPE=image/png:https://dq5p
 wpg1q8ru0.cloudfront.net/2026/04/23/19/50/16/014a2804-1bbf-45d8-b5af-d8558
 558fdd2/sermon%20pic%20April%2026%202026.png
ATTACH;FILENAME="Apr 26, 2026 10 am Order of Worship.pdf";FMTTYPE=applicati
 on/pdf:https://dq5pwpg1q8ru0.cloudfront.net/2026/04/23/19/50/15/7c11dc0d-0
 d30-487b-8058-c7c28d5b4d54/Apr%2026,%202026%2010%20am%20Order%20of%20Worsh
 ip.pdf
END:VEVENT
END:VCALENDAR
