BEGIN:VCALENDAR
VERSION:2.0
PRODID:icalendar-ruby
CALSCALE:GREGORIAN
METHOD:PUBLISH
BEGIN:VEVENT
DTSTAMP:20260424T234426Z
UID:696-458683@kucparksville.ca
DTSTART:20261101T180000Z
DTEND:20261101T191500Z
CLASS:PUBLIC
CREATED:20260424T144750
DESCRIPTION:
LAST-MODIFIED:20260424T144750
LOCATION:Sanctuary and Livestream
SUMMARY:Sunday Worship Service
URL;VALUE=URI:https://www.kucparksville.ca/events/sunday-worship-service/20
 26-11-01
END:VEVENT
END:VCALENDAR
