BEGIN:VCALENDAR
VERSION:2.0
PRODID:icalendar-ruby
CALSCALE:GREGORIAN
METHOD:PUBLISH
BEGIN:VEVENT
DTSTAMP:20260424T221621Z
UID:696-458682@kucparksville.ca
DTSTART:20261025T170000Z
DTEND:20261025T181500Z
CLASS:PUBLIC
CREATED:20260424T144750
DESCRIPTION:
LAST-MODIFIED:20260424T144750
LOCATION:Sanctuary and Livestream
SUMMARY:Sunday Worship Service
URL;VALUE=URI:https://www.kucparksville.ca/events/sunday-worship-service/20
 26-10-25
END:VEVENT
END:VCALENDAR
