BEGIN:VCALENDAR
VERSION:2.0
PRODID:icalendar-ruby
CALSCALE:GREGORIAN
METHOD:PUBLISH
BEGIN:VEVENT
DTSTAMP:20260424T194151Z
UID:696-458573@kucparksville.ca
DTSTART:20261011T170000Z
DTEND:20261011T181500Z
CLASS:PUBLIC
CREATED:20260424T115947
DESCRIPTION:
LAST-MODIFIED:20260424T115947
LOCATION:Sanctuary and Livestream
SUMMARY:Sunday Worship Service
URL;VALUE=URI:https://www.kucparksville.ca/events/sunday-worship-service/20
 26-10-11
END:VEVENT
END:VCALENDAR
