BEGIN:VCALENDAR
VERSION:2.0
PRODID:icalendar-ruby
CALSCALE:GREGORIAN
METHOD:PUBLISH
BEGIN:VEVENT
DTSTAMP:20260424T182149Z
UID:696-458465@kucparksville.ca
DTSTART:20261004T170000Z
DTEND:20261004T181500Z
CLASS:PUBLIC
CREATED:20260424T091406
DESCRIPTION:
LAST-MODIFIED:20260424T091406
LOCATION:Sanctuary and Livestream
SUMMARY:Sunday Worship Service
URL;VALUE=URI:https://www.kucparksville.ca/events/sunday-worship-service/20
 26-10-04
END:VEVENT
END:VCALENDAR
