BEGIN:VCALENDAR
VERSION:2.0
PRODID:icalendar-ruby
CALSCALE:GREGORIAN
METHOD:PUBLISH
BEGIN:VEVENT
DTSTAMP:20260424T153047Z
UID:696-458356@kucparksville.ca
DTSTART:20260920T170000Z
DTEND:20260920T181500Z
CLASS:PUBLIC
CREATED:20260424T062252
DESCRIPTION:
LAST-MODIFIED:20260424T062252
LOCATION:Sanctuary and Livestream
SUMMARY:Sunday Worship Service
URL;VALUE=URI:https://www.kucparksville.ca/events/sunday-worship-service/20
 26-09-20
END:VEVENT
END:VCALENDAR
