BEGIN:VCALENDAR
VERSION:2.0
PRODID:icalendar-ruby
CALSCALE:GREGORIAN
METHOD:PUBLISH
BEGIN:VEVENT
DTSTAMP:20260419T194010Z
UID:364-24435@kucparksville.ca
DTSTART:20181103T170000Z
DTEND:20181103T220000Z
CLASS:PUBLIC
CREATED:20180809T092454
DESCRIPTION:World Craft Bazaar - Saturday\, November 3\, 2018\nEvent:  10:
 00 a.m. - 3:00 p.m.
LAST-MODIFIED:20180809T092454
LOCATION:Sanctuary/Lounge/Kitchen
SUMMARY:KAIROS - World Craft Bazaar(S/L/K)
URL;VALUE=URI:https://www.kucparksville.ca/events/kairos-world-craft-bazaar
 -s-l-k/2018-11-03
ATTACH;FILENAME=KAIROS.png;FMTTYPE=image/png:https://dq5pwpg1q8ru0.cloudfro
 nt.net/2018/06/04/15/53/21/857b4e22-9ef0-467d-b453-965299dd2992/KAIROS.png
END:VEVENT
END:VCALENDAR
